BEGIN:VCALENDAR
VERSION:2.0
PRODID:-//Meuroer Sportverein e.V. - ECPv4.3.2//NONSGML v1.0//EN
CALSCALE:GREGORIAN
METHOD:PUBLISH
X-WR-CALNAME:Meuroer Sportverein e.V.
X-ORIGINAL-URL:https://www.meuroer-sv.de
X-WR-CALDESC:Events for Meuroer Sportverein e.V.
BEGIN:VEVENT
DTSTART;VALUE=DATE:20170529
DTEND;VALUE=DATE:20170604
DTSTAMP:20260423T091824
CREATED:20170511T105943Z
LAST-MODIFIED:20171025T115745Z
UID:2241-1496016000-1496620799@www.meuroer-sv.de
SUMMARY:Woche des Sports 2017
DESCRIPTION:Vom 29. Mai bis 4. Juni findet wieder die alljährliche Woche des Sports des MSV statt. Alle Infos und Termine zur Kita-Olympiade\, den Turnieren (Dart\, Fußball\, Skat\, Tischtennis und Volleyball) und dem Tag der offenen Tür unserer SevenUP Mädels findet ihr hier...
URL:https://www.meuroer-sv.de/event/woche-des-sports-2017/
END:VEVENT
END:VCALENDAR