BEGIN:VCALENDAR
VERSION:2.0
PRODID:-//Meuroer Sportverein e.V. - ECPv4.3.2//NONSGML v1.0//EN
CALSCALE:GREGORIAN
METHOD:PUBLISH
X-WR-CALNAME:Meuroer Sportverein e.V.
X-ORIGINAL-URL:https://www.meuroer-sv.de
X-WR-CALDESC:Events for Meuroer Sportverein e.V.
BEGIN:VEVENT
DTSTART;VALUE=DATE:20260502
DTEND;VALUE=DATE:20260502
DTSTAMP:20260423T103836
CREATED:20231121T102355Z
LAST-MODIFIED:20260327T083842Z
UID:5115-1777680000-1777766399@www.meuroer-sv.de
SUMMARY:Red Devils – MSV (Dart)
DESCRIPTION:Wir freuen uns auf alle Fans die unsere Mannschaft bei diesem Auswärtsspiel unterstützen. Die genaue Anwurfzeit wird zeitnah über unsere WhatsApp-Community mitgeteilt.
URL:https://www.meuroer-sv.de/event/red-devils-msv-dart/
END:VEVENT
END:VCALENDAR