BEGIN:VCALENDAR
VERSION:2.0
PRODID:-//Meuroer Sportverein e.V. - ECPv4.3.2//NONSGML v1.0//EN
CALSCALE:GREGORIAN
METHOD:PUBLISH
X-WR-CALNAME:Meuroer Sportverein e.V.
X-ORIGINAL-URL:https://www.meuroer-sv.de
X-WR-CALDESC:Events for Meuroer Sportverein e.V.
BEGIN:VEVENT
DTSTART;TZID=Europe/Berlin:20250913T100000
DTEND;TZID=Europe/Berlin:20250913T123000
DTSTAMP:20260423T110345
CREATED:20231009T134721Z
LAST-MODIFIED:20250911T121650Z
UID:5032-1757757600-1757766600@www.meuroer-sv.de
SUMMARY:MSV (Tischtennis Jugend) – TTC Finsterwalde II
DESCRIPTION:Wir freuen uns auf alle Fans\, die unsere Mannschaft bei diesem Heimspiel unterstützen.
URL:https://www.meuroer-sv.de/event/msv-tischtennis-jugend-ttc-finsterwalde-ii/
END:VEVENT
END:VCALENDAR